BEGIN:VCALENDAR
VERSION:2.0
PRODID:-//APS Sport - ECPv6.15.20//NONSGML v1.0//EN
CALSCALE:GREGORIAN
METHOD:PUBLISH
X-WR-CALNAME:APS Sport
X-ORIGINAL-URL:https://apssport.org.au
X-WR-CALDESC:Events for APS Sport
REFRESH-INTERVAL;VALUE=DURATION:PT1H
X-Robots-Tag:noindex
X-PUBLISHED-TTL:PT1H
BEGIN:VTIMEZONE
TZID:UTC
BEGIN:STANDARD
TZOFFSETFROM:+0000
TZOFFSETTO:+0000
TZNAME:UTC
DTSTART:20210101T000000
END:STANDARD
END:VTIMEZONE
BEGIN:VEVENT
DTSTART;TZID=UTC:20220430T080000
DTEND;TZID=UTC:20220813T170000
DTSTAMP:20260421T211055
CREATED:20220413T071140Z
LAST-MODIFIED:20220413T071140Z
UID:91220-1651305600-1660410000@apssport.org.au
SUMMARY:APS Winter Sport Season 2022
DESCRIPTION:
URL:https://apssport.org.au/event/aps-winter-sport-season-2022/
END:VEVENT
END:VCALENDAR