BEGIN:VCALENDAR
VERSION:2.0
PRODID:-//APS Sport - ECPv6.15.20//NONSGML v1.0//EN
CALSCALE:GREGORIAN
METHOD:PUBLISH
X-ORIGINAL-URL:https://apssport.org.au
X-WR-CALDESC:Events for APS Sport
REFRESH-INTERVAL;VALUE=DURATION:PT1H
X-Robots-Tag:noindex
X-PUBLISHED-TTL:PT1H
BEGIN:VTIMEZONE
TZID:Australia/Melbourne
BEGIN:STANDARD
TZOFFSETFROM:+1100
TZOFFSETTO:+1000
TZNAME:AEST
DTSTART:20180331T160000
END:STANDARD
BEGIN:DAYLIGHT
TZOFFSETFROM:+1000
TZOFFSETTO:+1100
TZNAME:AEDT
DTSTART:20181006T160000
END:DAYLIGHT
BEGIN:STANDARD
TZOFFSETFROM:+1100
TZOFFSETTO:+1000
TZNAME:AEST
DTSTART:20190406T160000
END:STANDARD
BEGIN:DAYLIGHT
TZOFFSETFROM:+1000
TZOFFSETTO:+1100
TZNAME:AEDT
DTSTART:20191005T160000
END:DAYLIGHT
BEGIN:STANDARD
TZOFFSETFROM:+1100
TZOFFSETTO:+1000
TZNAME:AEST
DTSTART:20200404T160000
END:STANDARD
BEGIN:DAYLIGHT
TZOFFSETFROM:+1000
TZOFFSETTO:+1100
TZNAME:AEDT
DTSTART:20201003T160000
END:DAYLIGHT
END:VTIMEZONE
BEGIN:VEVENT
DTSTART;VALUE=DATE:20190719
DTEND;VALUE=DATE:20190720
DTSTAMP:20260424T005848
CREATED:20190603T062838Z
LAST-MODIFIED:20190719T053755Z
UID:87194-1563494400-1563580799@apssport.org.au
SUMMARY:Fri 19 July - APS Summer Team Sport Term 4 Entries close
DESCRIPTION:
URL:https://apssport.org.au/event/fri-19-july-aps-summer-team-sport-term-4-entries-close/
END:VEVENT
BEGIN:VEVENT
DTSTART;VALUE=DATE:20190719
DTEND;VALUE=DATE:20190721
DTSTAMP:20260424T005848
CREATED:20190719T053502Z
LAST-MODIFIED:20190719T053502Z
UID:87441-1563494400-1563667199@apssport.org.au
SUMMARY:Sat	July 20	Winter Team Sport Round
DESCRIPTION:
URL:https://apssport.org.au/event/satjuly-20winter-team-sport-round/
END:VEVENT
BEGIN:VEVENT
DTSTART;VALUE=DATE:20190727
DTEND;VALUE=DATE:20190728
DTSTAMP:20260424T005848
CREATED:20190719T053613Z
LAST-MODIFIED:20190719T053613Z
UID:87445-1564185600-1564271999@apssport.org.au
SUMMARY:Sat	July 27	Winter Team Sport Round
DESCRIPTION:
URL:https://apssport.org.au/event/satjuly-27winter-team-sport-round/
END:VEVENT
END:VCALENDAR