BEGIN:VCALENDAR
VERSION:2.0
PRODID:-//APS Sport - ECPv6.15.20//NONSGML v1.0//EN
CALSCALE:GREGORIAN
METHOD:PUBLISH
X-ORIGINAL-URL:https://apssport.org.au
X-WR-CALDESC:Events for APS Sport
REFRESH-INTERVAL;VALUE=DURATION:PT1H
X-Robots-Tag:noindex
X-PUBLISHED-TTL:PT1H
BEGIN:VTIMEZONE
TZID:Australia/Melbourne
BEGIN:STANDARD
TZOFFSETFROM:+1100
TZOFFSETTO:+1000
TZNAME:AEST
DTSTART:20180331T160000
END:STANDARD
BEGIN:DAYLIGHT
TZOFFSETFROM:+1000
TZOFFSETTO:+1100
TZNAME:AEDT
DTSTART:20181006T160000
END:DAYLIGHT
BEGIN:STANDARD
TZOFFSETFROM:+1100
TZOFFSETTO:+1000
TZNAME:AEST
DTSTART:20190406T160000
END:STANDARD
BEGIN:DAYLIGHT
TZOFFSETFROM:+1000
TZOFFSETTO:+1100
TZNAME:AEDT
DTSTART:20191005T160000
END:DAYLIGHT
BEGIN:STANDARD
TZOFFSETFROM:+1100
TZOFFSETTO:+1000
TZNAME:AEST
DTSTART:20200404T160000
END:STANDARD
BEGIN:DAYLIGHT
TZOFFSETFROM:+1000
TZOFFSETTO:+1100
TZNAME:AEDT
DTSTART:20201003T160000
END:DAYLIGHT
END:VTIMEZONE
BEGIN:VEVENT
DTSTART;TZID=Australia/Melbourne:20190502T093000
DTEND;TZID=Australia/Melbourne:20190502T180000
DTSTAMP:20260424T035630
CREATED:20190405T060012Z
LAST-MODIFIED:20190405T060012Z
UID:86492-1556789400-1556820000@apssport.org.au
SUMMARY:APS Delegates Meeting at GC
DESCRIPTION:
URL:https://apssport.org.au/event/aps-delegates-meeting-at-gc/
END:VEVENT
BEGIN:VEVENT
DTSTART;TZID=Australia/Melbourne:20190504T080000
DTEND;TZID=Australia/Melbourne:20190504T170000
DTSTAMP:20260424T035630
CREATED:20190405T060044Z
LAST-MODIFIED:20190405T060044Z
UID:86494-1556956800-1556989200@apssport.org.au
SUMMARY:Winter Team Sport Round
DESCRIPTION:
URL:https://apssport.org.au/event/winter-team-sport-round-13/
END:VEVENT
BEGIN:VEVENT
DTSTART;TZID=Australia/Melbourne:20190507T100000
DTEND;TZID=Australia/Melbourne:20190507T140000
DTSTAMP:20260424T035630
CREATED:20190405T060117Z
LAST-MODIFIED:20190405T060140Z
UID:86496-1557223200-1557237600@apssport.org.au
SUMMARY:APS/AGSV Girls’ Delegates Meeting at PEGS
DESCRIPTION:
URL:https://apssport.org.au/event/aps-agsv-girls-delegates-meeting-at-pegs/
END:VEVENT
BEGIN:VEVENT
DTSTART;TZID=Australia/Melbourne:20190510T080000
DTEND;TZID=Australia/Melbourne:20190510T170000
DTSTAMP:20260424T035630
CREATED:20190510T054724Z
LAST-MODIFIED:20190510T055904Z
UID:86724-1557475200-1557507600@apssport.org.au
SUMMARY:APS Winter Team Sport Round - 11 May
DESCRIPTION:
URL:https://apssport.org.au/event/aps-winter-team-sport-round-11-may-2019/
END:VEVENT
BEGIN:VEVENT
DTSTART;TZID=Australia/Melbourne:20190510T080000
DTEND;TZID=Australia/Melbourne:20190510T170000
DTSTAMP:20260424T035630
CREATED:20190510T054803Z
LAST-MODIFIED:20190520T043213Z
UID:86726-1557475200-1557507600@apssport.org.au
SUMMARY:Athletics Victoria Cross Country Relays - 11 May
DESCRIPTION:
URL:https://apssport.org.au/event/athletics-victoria-cross-country-relays-sat-11-may-2019/
END:VEVENT
BEGIN:VEVENT
DTSTART;TZID=Australia/Melbourne:20190510T080000
DTEND;TZID=Australia/Melbourne:20190510T170000
DTSTAMP:20260424T035630
CREATED:20190510T054937Z
LAST-MODIFIED:20190510T055529Z
UID:86731-1557475200-1557507600@apssport.org.au
SUMMARY:APS Winter Team Sport Round - 18 May
DESCRIPTION:
URL:https://apssport.org.au/event/aps-winter-team-sport-round-18-may-2019/
END:VEVENT
BEGIN:VEVENT
DTSTART;TZID=Australia/Melbourne:20190510T080000
DTEND;TZID=Australia/Melbourne:20190510T210000
DTSTAMP:20260424T035630
CREATED:20190510T054845Z
LAST-MODIFIED:20190510T060225Z
UID:86728-1557475200-1557522000@apssport.org.au
SUMMARY:VSAC Representative Swimming [MSAC] - 13 May
DESCRIPTION:
URL:https://apssport.org.au/event/vsac-representative-swimming-msac-13-may-2019/
END:VEVENT
BEGIN:VEVENT
DTSTART;VALUE=DATE:20190525
DTEND;VALUE=DATE:20190526
DTSTAMP:20260424T035630
CREATED:20190520T035934Z
LAST-MODIFIED:20190521T032843Z
UID:87089-1558742400-1558828799@apssport.org.au
SUMMARY:APS Indigenous Round - Winter Team Sport
DESCRIPTION:
URL:https://apssport.org.au/event/satmay-25winter-team-sport-round/
END:VEVENT
BEGIN:VEVENT
DTSTART;VALUE=DATE:20190525
DTEND;VALUE=DATE:20190526
DTSTAMP:20260424T035630
CREATED:20190520T040045Z
LAST-MODIFIED:20190520T044639Z
UID:87091-1558742400-1558828799@apssport.org.au
SUMMARY:Athletics Victoria Road Relays [Parkville]
DESCRIPTION:
URL:https://apssport.org.au/event/satmay-25athletics-victoria-road-relays/
END:VEVENT
BEGIN:VEVENT
DTSTART;TZID=Australia/Melbourne:20190528T080000
DTEND;TZID=Australia/Melbourne:20190528T170000
DTSTAMP:20260424T035630
CREATED:20190528T080639Z
LAST-MODIFIED:20190528T080657Z
UID:87140-1559030400-1559062800@apssport.org.au
SUMMARY:Thurs May 30 APS Primary Sport Coordinators Meeting
DESCRIPTION:
URL:https://apssport.org.au/event/thurs-may-30-aps-primary-sport-coordinators-meeting/
END:VEVENT
BEGIN:VEVENT
DTSTART;TZID=Australia/Melbourne:20190528T080000
DTEND;TZID=Australia/Melbourne:20190528T170000
DTSTAMP:20260424T035630
CREATED:20190528T080719Z
LAST-MODIFIED:20190528T080719Z
UID:87142-1559030400-1559062800@apssport.org.au
SUMMARY:Sat	June 1	Winter Team Sport Round
DESCRIPTION:
URL:https://apssport.org.au/event/satjune-1winter-team-sport-round/
END:VEVENT
BEGIN:VEVENT
DTSTART;TZID=Australia/Melbourne:20190528T080000
DTEND;TZID=Australia/Melbourne:20190528T170000
DTSTAMP:20260424T035630
CREATED:20190528T080815Z
LAST-MODIFIED:20190528T080815Z
UID:87144-1559030400-1559062800@apssport.org.au
SUMMARY:Mon	June 10	Queen’s Birthday Holiday
DESCRIPTION:
URL:https://apssport.org.au/event/monjune-10queens-birthday-holiday/
END:VEVENT
BEGIN:VEVENT
DTSTART;TZID=Australia/Melbourne:20190528T080000
DTEND;TZID=Australia/Melbourne:20190528T170000
DTSTAMP:20260424T035630
CREATED:20190528T080839Z
LAST-MODIFIED:20190528T080839Z
UID:87146-1559030400-1559062800@apssport.org.au
SUMMARY:Sat	June 15	Winter Team Sport Round
DESCRIPTION:
URL:https://apssport.org.au/event/satjune-15winter-team-sport-round/
END:VEVENT
BEGIN:VEVENT
DTSTART;TZID=Australia/Melbourne:20190528T080000
DTEND;TZID=Australia/Melbourne:20190528T170000
DTSTAMP:20260424T035630
CREATED:20190528T080906Z
LAST-MODIFIED:20190528T080906Z
UID:87148-1559030400-1559062800@apssport.org.au
SUMMARY:Sat	June 15	Athletics Victoria Individual Cross Country
DESCRIPTION:
URL:https://apssport.org.au/event/satjune-15athletics-victoria-individual-cross-country/
END:VEVENT
BEGIN:VEVENT
DTSTART;TZID=Australia/Melbourne:20190528T080000
DTEND;TZID=Australia/Melbourne:20190528T170000
DTSTAMP:20260424T035630
CREATED:20190528T080929Z
LAST-MODIFIED:20190528T080929Z
UID:87150-1559030400-1559062800@apssport.org.au
SUMMARY:Sat	June 22	Winter Team Sport Round
DESCRIPTION:
URL:https://apssport.org.au/event/satjune-22winter-team-sport-round/
END:VEVENT
BEGIN:VEVENT
DTSTART;VALUE=DATE:20190529
DTEND;VALUE=DATE:20190530
DTSTAMP:20260424T035630
CREATED:20190520T040133Z
LAST-MODIFIED:20190520T044627Z
UID:87093-1559088000-1559174399@apssport.org.au
SUMMARY:SSV / APS Division Cross Country at Carey [Bulleen]
DESCRIPTION:
URL:https://apssport.org.au/event/wed-may-29ssv-aps-division-cross-country-at-carey-bulleen/
LOCATION:Carey Grammar School\, 349 Barkers Road\, Kew\, 3101\, Australia
END:VEVENT
END:VCALENDAR