BEGIN:VCALENDAR
VERSION:2.0
PRODID:-//APS Sport - ECPv6.15.20//NONSGML v1.0//EN
CALSCALE:GREGORIAN
METHOD:PUBLISH
X-WR-CALNAME:APS Sport
X-ORIGINAL-URL:https://apssport.org.au
X-WR-CALDESC:Events for APS Sport
REFRESH-INTERVAL;VALUE=DURATION:PT1H
X-Robots-Tag:noindex
X-PUBLISHED-TTL:PT1H
BEGIN:VTIMEZONE
TZID:Australia/Melbourne
BEGIN:STANDARD
TZOFFSETFROM:+1100
TZOFFSETTO:+1000
TZNAME:AEST
DTSTART:20180331T160000
END:STANDARD
BEGIN:DAYLIGHT
TZOFFSETFROM:+1000
TZOFFSETTO:+1100
TZNAME:AEDT
DTSTART:20181006T160000
END:DAYLIGHT
BEGIN:STANDARD
TZOFFSETFROM:+1100
TZOFFSETTO:+1000
TZNAME:AEST
DTSTART:20190406T160000
END:STANDARD
BEGIN:DAYLIGHT
TZOFFSETFROM:+1000
TZOFFSETTO:+1100
TZNAME:AEDT
DTSTART:20191005T160000
END:DAYLIGHT
BEGIN:STANDARD
TZOFFSETFROM:+1100
TZOFFSETTO:+1000
TZNAME:AEST
DTSTART:20200404T160000
END:STANDARD
BEGIN:DAYLIGHT
TZOFFSETFROM:+1000
TZOFFSETTO:+1100
TZNAME:AEDT
DTSTART:20201003T160000
END:DAYLIGHT
END:VTIMEZONE
BEGIN:VEVENT
DTSTART;VALUE=DATE:20190315
DTEND;VALUE=DATE:20190318
DTSTAMP:20260424T063130
CREATED:20190314T070021Z
LAST-MODIFIED:20190314T070732Z
UID:86242-1552608000-1552867199@apssport.org.au
SUMMARY:The Head of Schoolgirls Regatta [Barwon River\, Geelong]
DESCRIPTION:
URL:https://apssport.org.au/event/head-of-schoolgirls-regatta-geelong/
LOCATION:Barwon River
END:VEVENT
BEGIN:VEVENT
DTSTART;VALUE=DATE:20190316
DTEND;VALUE=DATE:20190317
DTSTAMP:20260424T063130
CREATED:20190314T070115Z
LAST-MODIFIED:20190314T070831Z
UID:86244-1552694400-1552780799@apssport.org.au
SUMMARY:2018/19 APS Summer Team Sport Round
DESCRIPTION:
URL:https://apssport.org.au/event/summer-team-sport-round-2018-19/
END:VEVENT
BEGIN:VEVENT
DTSTART;TZID=Australia/Melbourne:20190316T080000
DTEND;TZID=Australia/Melbourne:20190316T130000
DTSTAMP:20260424T063130
CREATED:20190314T070206Z
LAST-MODIFIED:20190314T070206Z
UID:86246-1552723200-1552741200@apssport.org.au
SUMMARY:APS Boys & Girls Swimming & Diving Lead-up Meets
DESCRIPTION:
URL:https://apssport.org.au/event/aps-boys-girls-swimming-diving-lead-up-meets/
END:VEVENT
BEGIN:VEVENT
DTSTART;VALUE=DATE:20190323
DTEND;VALUE=DATE:20190324
DTSTAMP:20260424T063130
CREATED:20190314T070255Z
LAST-MODIFIED:20190314T070255Z
UID:86248-1553299200-1553385599@apssport.org.au
SUMMARY:The APS Regatta [Heads of the River] 2019 [Nagambie Lakes]
DESCRIPTION:
URL:https://apssport.org.au/event/the-aps-regatta-heads-of-the-river-2019-nagambie-lakes/
END:VEVENT
BEGIN:VEVENT
DTSTART;VALUE=DATE:20190323
DTEND;VALUE=DATE:20190324
DTSTAMP:20260424T063130
CREATED:20190314T070902Z
LAST-MODIFIED:20190314T070902Z
UID:86258-1553299200-1553385599@apssport.org.au
SUMMARY:2018/19 APS Summer Team Sport Round
DESCRIPTION:
URL:https://apssport.org.au/event/2018-19-aps-summer-team-sport-round/
END:VEVENT
BEGIN:VEVENT
DTSTART;TZID=Australia/Melbourne:20190326T190000
DTEND;TZID=Australia/Melbourne:20190326T220000
DTSTAMP:20260424T063130
CREATED:20190314T070401Z
LAST-MODIFIED:20190314T070401Z
UID:86250-1553626800-1553637600@apssport.org.au
SUMMARY:APS Girls Swimming & Diving Combined Sports 2019 at MSAC
DESCRIPTION:
URL:https://apssport.org.au/event/aps-girls-swimming-diving-combined-sports-2019-at-msac/
END:VEVENT
BEGIN:VEVENT
DTSTART;TZID=Australia/Melbourne:20190327T190000
DTEND;TZID=Australia/Melbourne:20190327T220000
DTSTAMP:20260424T063130
CREATED:20190314T070453Z
LAST-MODIFIED:20190314T070453Z
UID:86252-1553713200-1553724000@apssport.org.au
SUMMARY:APS Boys Swimming & Diving Combined Sports 2019 at MSAC
DESCRIPTION:
URL:https://apssport.org.au/event/aps-boys-swimming-diving-combined-sports-2019-at-msac/
END:VEVENT
BEGIN:VEVENT
DTSTART;VALUE=DATE:20190330
DTEND;VALUE=DATE:20190331
DTSTAMP:20260424T063130
CREATED:20190314T070946Z
LAST-MODIFIED:20190314T070946Z
UID:86261-1553904000-1553990399@apssport.org.au
SUMMARY:2018/19 APS Summer Team Sport Round
DESCRIPTION:
URL:https://apssport.org.au/event/2018-19-aps-summer-team-sport-round-2/
END:VEVENT
END:VCALENDAR