BEGIN:VCALENDAR
VERSION:2.0
PRODID:-//APS Sport - ECPv6.15.20//NONSGML v1.0//EN
CALSCALE:GREGORIAN
METHOD:PUBLISH
X-ORIGINAL-URL:https://apssport.org.au
X-WR-CALDESC:Events for APS Sport
REFRESH-INTERVAL;VALUE=DURATION:PT1H
X-Robots-Tag:noindex
X-PUBLISHED-TTL:PT1H
BEGIN:VTIMEZONE
TZID:Australia/Melbourne
BEGIN:STANDARD
TZOFFSETFROM:+1100
TZOFFSETTO:+1000
TZNAME:AEST
DTSTART:20170401T160000
END:STANDARD
BEGIN:DAYLIGHT
TZOFFSETFROM:+1000
TZOFFSETTO:+1100
TZNAME:AEDT
DTSTART:20170930T160000
END:DAYLIGHT
BEGIN:STANDARD
TZOFFSETFROM:+1100
TZOFFSETTO:+1000
TZNAME:AEST
DTSTART:20180331T160000
END:STANDARD
BEGIN:DAYLIGHT
TZOFFSETFROM:+1000
TZOFFSETTO:+1100
TZNAME:AEDT
DTSTART:20181006T160000
END:DAYLIGHT
BEGIN:STANDARD
TZOFFSETFROM:+1100
TZOFFSETTO:+1000
TZNAME:AEST
DTSTART:20190406T160000
END:STANDARD
BEGIN:DAYLIGHT
TZOFFSETFROM:+1000
TZOFFSETTO:+1100
TZNAME:AEDT
DTSTART:20191005T160000
END:DAYLIGHT
BEGIN:STANDARD
TZOFFSETFROM:+1100
TZOFFSETTO:+1000
TZNAME:AEST
DTSTART:20200404T160000
END:STANDARD
BEGIN:DAYLIGHT
TZOFFSETFROM:+1000
TZOFFSETTO:+1100
TZNAME:AEDT
DTSTART:20201003T160000
END:DAYLIGHT
END:VTIMEZONE
BEGIN:VEVENT
DTSTART;TZID=Australia/Melbourne:20181023T160000
DTEND;TZID=Australia/Melbourne:20181023T190000
DTSTAMP:20260422T113511
CREATED:20170110T001715Z
LAST-MODIFIED:20171207T040005Z
UID:4877-1540310400-1540321200@apssport.org.au
SUMMARY:APS/AGSV Girls' Delegates Meeting
DESCRIPTION:
URL:https://apssport.org.au/event/apsagsv-girls-delegates-meeting-4/
LOCATION:Geelong College\, Talbot Street\, Newtown
CATEGORIES:Girls',Meetings
END:VEVENT
BEGIN:VEVENT
DTSTART;TZID=Australia/Melbourne:20181101T093000
DTEND;TZID=Australia/Melbourne:20181101T110000
DTSTAMP:20260422T113511
CREATED:20170110T005248Z
LAST-MODIFIED:20171130T041206Z
UID:4884-1541064600-1541070000@apssport.org.au
SUMMARY:APS Girls' Delegates Meeting
DESCRIPTION:
URL:https://apssport.org.au/event/aps-girls-delegates-meeting-4/
LOCATION:Carey Baptist Grammar
CATEGORIES:Girls',Meetings
END:VEVENT
BEGIN:VEVENT
DTSTART;TZID=Australia/Melbourne:20181101T113000
DTEND;TZID=Australia/Melbourne:20181101T130000
DTSTAMP:20260422T113511
CREATED:20170110T005354Z
LAST-MODIFIED:20171130T041235Z
UID:4886-1541071800-1541077200@apssport.org.au
SUMMARY:APS Boys' & Girls' Delegates Meeting
DESCRIPTION:
URL:https://apssport.org.au/event/aps-boys-girls-delegates-meeting-4/
LOCATION:Carey Grammar School\, 349 Barkers Road\, Kew\, 3101\, Australia
CATEGORIES:Boys',Girls',Meetings
END:VEVENT
BEGIN:VEVENT
DTSTART;TZID=Australia/Melbourne:20181101T140000
DTEND;TZID=Australia/Melbourne:20181101T170000
DTSTAMP:20260422T113511
CREATED:20170110T005129Z
LAST-MODIFIED:20171130T041300Z
UID:4882-1541080800-1541091600@apssport.org.au
SUMMARY:APS Boys' Delegates Meeting
DESCRIPTION:
URL:https://apssport.org.au/event/aps-boys-delegates-meeting-4/
LOCATION:Carey Grammar School\, 349 Barkers Road\, Kew\, 3101\, Australia
CATEGORIES:Boys',Meetings
END:VEVENT
BEGIN:VEVENT
DTSTART;TZID=Australia/Melbourne:20181107T150000
DTEND;TZID=Australia/Melbourne:20181107T170000
DTSTAMP:20260422T113511
CREATED:20170110T005701Z
LAST-MODIFIED:20171130T023518Z
UID:4892-1541602800-1541610000@apssport.org.au
SUMMARY:TsIC Rowing Review Meeting
DESCRIPTION:
URL:https://apssport.org.au/event/rowing-tic-review-meeting/
CATEGORIES:Meetings,Rowing
END:VEVENT
BEGIN:VEVENT
DTSTART;TZID=Australia/Melbourne:20181116T130000
DTEND;TZID=Australia/Melbourne:20181116T150000
DTSTAMP:20260422T113511
CREATED:20170110T010143Z
LAST-MODIFIED:20171130T044230Z
UID:4902-1542373200-1542380400@apssport.org.au
SUMMARY:APS Primary Sport Coordinators Meeting
DESCRIPTION:
URL:https://apssport.org.au/event/aps-primary-sport-coordinators-meeting-5/
LOCATION:Carey Baptist Grammar
CATEGORIES:Meetings,Primary
END:VEVENT
BEGIN:VEVENT
DTSTART;TZID=Australia/Melbourne:20190201T133000
DTEND;TZID=Australia/Melbourne:20190201T150000
DTSTAMP:20260422T113511
CREATED:20181205T053653Z
LAST-MODIFIED:20181205T054246Z
UID:85642-1549027800-1549033200@apssport.org.au
SUMMARY:APS Primary Sport Coordinators Meeting
DESCRIPTION:
URL:https://apssport.org.au/event/aps-primary-sport-coordinators-meeting-term-1/
CATEGORIES:Meetings,Primary
END:VEVENT
BEGIN:VEVENT
DTSTART;TZID=Australia/Melbourne:20190206T160000
DTEND;TZID=Australia/Melbourne:20190206T173000
DTSTAMP:20260422T113511
CREATED:20181205T053904Z
LAST-MODIFIED:20181205T054322Z
UID:85646-1549468800-1549474200@apssport.org.au
SUMMARY:APS Rowing TIC Meeting
DESCRIPTION:
URL:https://apssport.org.au/event/aps-rowing-tic-meeting-mgs/
CATEGORIES:Boys',Girls',Meetings,Rowing
END:VEVENT
END:VCALENDAR