BEGIN:VCALENDAR
VERSION:2.0
PRODID:-//APS Sport - ECPv6.15.20//NONSGML v1.0//EN
CALSCALE:GREGORIAN
METHOD:PUBLISH
X-ORIGINAL-URL:https://apssport.org.au
X-WR-CALDESC:Events for APS Sport
REFRESH-INTERVAL;VALUE=DURATION:PT1H
X-Robots-Tag:noindex
X-PUBLISHED-TTL:PT1H
BEGIN:VTIMEZONE
TZID:Australia/Melbourne
BEGIN:STANDARD
TZOFFSETFROM:+1100
TZOFFSETTO:+1000
TZNAME:AEST
DTSTART:20170401T160000
END:STANDARD
BEGIN:DAYLIGHT
TZOFFSETFROM:+1000
TZOFFSETTO:+1100
TZNAME:AEDT
DTSTART:20170930T160000
END:DAYLIGHT
BEGIN:STANDARD
TZOFFSETFROM:+1100
TZOFFSETTO:+1000
TZNAME:AEST
DTSTART:20180331T160000
END:STANDARD
BEGIN:DAYLIGHT
TZOFFSETFROM:+1000
TZOFFSETTO:+1100
TZNAME:AEDT
DTSTART:20181006T160000
END:DAYLIGHT
BEGIN:STANDARD
TZOFFSETFROM:+1100
TZOFFSETTO:+1000
TZNAME:AEST
DTSTART:20190406T160000
END:STANDARD
BEGIN:DAYLIGHT
TZOFFSETFROM:+1000
TZOFFSETTO:+1100
TZNAME:AEDT
DTSTART:20191005T160000
END:DAYLIGHT
END:VTIMEZONE
BEGIN:VEVENT
DTSTART;TZID=Australia/Melbourne:20180501T113000
DTEND;TZID=Australia/Melbourne:20180501T130000
DTSTAMP:20260421T211612
CREATED:20170104T000349Z
LAST-MODIFIED:20171207T041017Z
UID:3239-1525174200-1525179600@apssport.org.au
SUMMARY:APS Boys' & Girls' Delegates Meeting
DESCRIPTION:
URL:https://apssport.org.au/event/aps-boys-girls-delegates-meeting-2/
LOCATION:Caulfield Grammar School – Caulfield\, 217 Glen Eira Road\, East Kilda\, 3183\, Australia
CATEGORIES:Boys',Girls',Meetings
END:VEVENT
BEGIN:VEVENT
DTSTART;TZID=Australia/Melbourne:20180501T140000
DTEND;TZID=Australia/Melbourne:20180501T170000
DTSTAMP:20260421T211612
CREATED:20170103T235926Z
LAST-MODIFIED:20171207T040953Z
UID:3235-1525183200-1525194000@apssport.org.au
SUMMARY:APS Boys' Delegates Meeting
DESCRIPTION:
URL:https://apssport.org.au/event/aps-boys-delegates-meeting-2/
LOCATION:Caulfield Grammar School – Caulfield\, 217 Glen Eira Road\, East Kilda\, 3183\, Australia
CATEGORIES:Boys',Meetings
END:VEVENT
BEGIN:VEVENT
DTSTART;TZID=Australia/Melbourne:20180508T100000
DTEND;TZID=Australia/Melbourne:20180508T123000
DTSTAMP:20260421T211612
CREATED:20170104T000745Z
LAST-MODIFIED:20171207T035249Z
UID:3243-1525773600-1525782600@apssport.org.au
SUMMARY:APS/AGSV Girls' Delegates Meeting
DESCRIPTION:
URL:https://apssport.org.au/event/apsagsv-girls-delegates-meeting-2/
LOCATION:Penleigh & Essendon Grammar School\, Keilor Rd & Rachelle Rd\, Keilor East
CATEGORIES:Girls',Meetings
END:VEVENT
BEGIN:VEVENT
DTSTART;TZID=Australia/Melbourne:20180531T130000
DTEND;TZID=Australia/Melbourne:20180531T150000
DTSTAMP:20260421T211612
CREATED:20170104T001636Z
LAST-MODIFIED:20171130T043842Z
UID:3256-1527771600-1527778800@apssport.org.au
SUMMARY:APS Primary Sport Coordinators Meeting
DESCRIPTION:
URL:https://apssport.org.au/event/aps-primary-sport-coordinators-meeting-3/
LOCATION:Carey Baptist Grammar
CATEGORIES:Meetings,Primary
END:VEVENT
END:VCALENDAR