BEGIN:VCALENDAR
VERSION:2.0
PRODID:-//APS Sport - ECPv6.15.20//NONSGML v1.0//EN
CALSCALE:GREGORIAN
METHOD:PUBLISH
X-WR-CALNAME:APS Sport
X-ORIGINAL-URL:https://apssport.org.au
X-WR-CALDESC:Events for APS Sport
REFRESH-INTERVAL;VALUE=DURATION:PT1H
X-Robots-Tag:noindex
X-PUBLISHED-TTL:PT1H
BEGIN:VTIMEZONE
TZID:Australia/Melbourne
BEGIN:STANDARD
TZOFFSETFROM:+1100
TZOFFSETTO:+1000
TZNAME:AEST
DTSTART:20190406T160000
END:STANDARD
BEGIN:DAYLIGHT
TZOFFSETFROM:+1000
TZOFFSETTO:+1100
TZNAME:AEDT
DTSTART:20191005T160000
END:DAYLIGHT
BEGIN:STANDARD
TZOFFSETFROM:+1100
TZOFFSETTO:+1000
TZNAME:AEST
DTSTART:20200404T160000
END:STANDARD
BEGIN:DAYLIGHT
TZOFFSETFROM:+1000
TZOFFSETTO:+1100
TZNAME:AEDT
DTSTART:20201003T160000
END:DAYLIGHT
BEGIN:STANDARD
TZOFFSETFROM:+1100
TZOFFSETTO:+1000
TZNAME:AEST
DTSTART:20210403T160000
END:STANDARD
BEGIN:DAYLIGHT
TZOFFSETFROM:+1000
TZOFFSETTO:+1100
TZNAME:AEDT
DTSTART:20211002T160000
END:DAYLIGHT
END:VTIMEZONE
BEGIN:VEVENT
DTSTART;TZID=Australia/Melbourne:20200207T130000
DTEND;TZID=Australia/Melbourne:20200207T153000
DTSTAMP:20260423T172831
CREATED:20200108T050506Z
LAST-MODIFIED:20200108T050506Z
UID:88440-1581080400-1581089400@apssport.org.au
SUMMARY:Fri	7 Feb	APS Primary Sport Coordinators Meeting (Primary T1)
DESCRIPTION:
URL:https://apssport.org.au/event/fri7-febaps-primary-sport-coordinators-meeting-primary-t1/
END:VEVENT
END:VCALENDAR