BEGIN:VCALENDAR
VERSION:2.0
PRODID:-//APS Sport - ECPv6.15.20//NONSGML v1.0//EN
CALSCALE:GREGORIAN
METHOD:PUBLISH
X-WR-CALNAME:APS Sport
X-ORIGINAL-URL:https://apssport.org.au
X-WR-CALDESC:Events for APS Sport
REFRESH-INTERVAL;VALUE=DURATION:PT1H
X-Robots-Tag:noindex
X-PUBLISHED-TTL:PT1H
BEGIN:VTIMEZONE
TZID:Australia/Melbourne
BEGIN:STANDARD
TZOFFSETFROM:+1100
TZOFFSETTO:+1000
TZNAME:AEST
DTSTART:20180331T160000
END:STANDARD
BEGIN:DAYLIGHT
TZOFFSETFROM:+1000
TZOFFSETTO:+1100
TZNAME:AEDT
DTSTART:20181006T160000
END:DAYLIGHT
BEGIN:STANDARD
TZOFFSETFROM:+1100
TZOFFSETTO:+1000
TZNAME:AEST
DTSTART:20190406T160000
END:STANDARD
BEGIN:DAYLIGHT
TZOFFSETFROM:+1000
TZOFFSETTO:+1100
TZNAME:AEDT
DTSTART:20191005T160000
END:DAYLIGHT
BEGIN:STANDARD
TZOFFSETFROM:+1100
TZOFFSETTO:+1000
TZNAME:AEST
DTSTART:20200404T160000
END:STANDARD
BEGIN:DAYLIGHT
TZOFFSETFROM:+1000
TZOFFSETTO:+1100
TZNAME:AEDT
DTSTART:20201003T160000
END:DAYLIGHT
END:VTIMEZONE
BEGIN:VEVENT
DTSTART;TZID=Australia/Melbourne:20190925T000000
DTEND;TZID=Australia/Melbourne:20191011T190000
DTSTAMP:20260423T234035
CREATED:20190925T053009Z
LAST-MODIFIED:20190926T083249Z
UID:87941-1569369600-1570820400@apssport.org.au
SUMMARY:Fri 11 October  APS v AGSV / GSV Rep Water Polo Matches [MSAC]
DESCRIPTION:
URL:https://apssport.org.au/event/fri-11-october-aps-v-agsv-gsv-rep-water-polo-matches-msac/
END:VEVENT
BEGIN:VEVENT
DTSTART;TZID=Australia/Melbourne:20190925T080000
DTEND;TZID=Australia/Melbourne:20191012T170000
DTSTAMP:20260423T234036
CREATED:20190925T053205Z
LAST-MODIFIED:20190925T053205Z
UID:87943-1569398400-1570899600@apssport.org.au
SUMMARY:Sat 12 October   Athletics Lead-up Meets at Lakeside Stadium
DESCRIPTION:
URL:https://apssport.org.au/event/sat-12-october-athletics-lead-up-meets-at-lakeside-stadium/
END:VEVENT
BEGIN:VEVENT
DTSTART;TZID=Australia/Melbourne:20190925T080000
DTEND;TZID=Australia/Melbourne:20191014T190000
DTSTAMP:20260423T234036
CREATED:20190925T053321Z
LAST-MODIFIED:20190925T053321Z
UID:87945-1569398400-1571079600@apssport.org.au
SUMMARY:Mon	14 October	APS Boys’ & Girls’ Water Polo Review Meetings
DESCRIPTION:
URL:https://apssport.org.au/event/mon14-octoberaps-boys-girls-water-polo-review-meetings/
END:VEVENT
BEGIN:VEVENT
DTSTART;TZID=Australia/Melbourne:20190925T080000
DTEND;TZID=Australia/Melbourne:20191016T170000
DTSTAMP:20260423T234036
CREATED:20190925T053411Z
LAST-MODIFIED:20190925T053411Z
UID:87947-1569398400-1571245200@apssport.org.au
SUMMARY:Wed	16 October	APS Junior Secondary Athletics [Lakeside Stadium - am]
DESCRIPTION:
URL:https://apssport.org.au/event/wed16-octoberaps-junior-secondary-athletics-lakeside-stadium-am/
END:VEVENT
BEGIN:VEVENT
DTSTART;TZID=Australia/Melbourne:20190925T080000
DTEND;TZID=Australia/Melbourne:20191016T200000
DTSTAMP:20260423T234036
CREATED:20190925T053514Z
LAST-MODIFIED:20190925T053514Z
UID:87949-1569398400-1571256000@apssport.org.au
SUMMARY:Wed	16 October	APS Boys’ Athletics Heats [Lakeside Stadium - pm]
DESCRIPTION:
URL:https://apssport.org.au/event/wed16-octoberaps-boys-athletics-heats-lakeside-stadium-pm/
END:VEVENT
END:VCALENDAR