BEGIN:VCALENDAR
VERSION:2.0
PRODID:-//APS Sport - ECPv6.15.20//NONSGML v1.0//EN
CALSCALE:GREGORIAN
METHOD:PUBLISH
X-WR-CALNAME:APS Sport
X-ORIGINAL-URL:https://apssport.org.au
X-WR-CALDESC:Events for APS Sport
REFRESH-INTERVAL;VALUE=DURATION:PT1H
X-Robots-Tag:noindex
X-PUBLISHED-TTL:PT1H
BEGIN:VTIMEZONE
TZID:Australia/Melbourne
BEGIN:STANDARD
TZOFFSETFROM:+1100
TZOFFSETTO:+1000
TZNAME:AEST
DTSTART:20180331T160000
END:STANDARD
BEGIN:DAYLIGHT
TZOFFSETFROM:+1000
TZOFFSETTO:+1100
TZNAME:AEDT
DTSTART:20181006T160000
END:DAYLIGHT
BEGIN:STANDARD
TZOFFSETFROM:+1100
TZOFFSETTO:+1000
TZNAME:AEST
DTSTART:20190406T160000
END:STANDARD
BEGIN:DAYLIGHT
TZOFFSETFROM:+1000
TZOFFSETTO:+1100
TZNAME:AEDT
DTSTART:20191005T160000
END:DAYLIGHT
BEGIN:STANDARD
TZOFFSETFROM:+1100
TZOFFSETTO:+1000
TZNAME:AEST
DTSTART:20200404T160000
END:STANDARD
BEGIN:DAYLIGHT
TZOFFSETFROM:+1000
TZOFFSETTO:+1100
TZNAME:AEDT
DTSTART:20201003T160000
END:DAYLIGHT
END:VTIMEZONE
BEGIN:VEVENT
DTSTART;TZID=Australia/Melbourne:20190528T080000
DTEND;TZID=Australia/Melbourne:20190528T170000
DTSTAMP:20260424T034935
CREATED:20190528T080639Z
LAST-MODIFIED:20190528T080657Z
UID:87140-1559030400-1559062800@apssport.org.au
SUMMARY:Thurs May 30 APS Primary Sport Coordinators Meeting
DESCRIPTION:
URL:https://apssport.org.au/event/thurs-may-30-aps-primary-sport-coordinators-meeting/
END:VEVENT
BEGIN:VEVENT
DTSTART;TZID=Australia/Melbourne:20190528T080000
DTEND;TZID=Australia/Melbourne:20190528T170000
DTSTAMP:20260424T034935
CREATED:20190528T080719Z
LAST-MODIFIED:20190528T080719Z
UID:87142-1559030400-1559062800@apssport.org.au
SUMMARY:Sat	June 1	Winter Team Sport Round
DESCRIPTION:
URL:https://apssport.org.au/event/satjune-1winter-team-sport-round/
END:VEVENT
BEGIN:VEVENT
DTSTART;TZID=Australia/Melbourne:20190528T080000
DTEND;TZID=Australia/Melbourne:20190528T170000
DTSTAMP:20260424T034935
CREATED:20190528T080815Z
LAST-MODIFIED:20190528T080815Z
UID:87144-1559030400-1559062800@apssport.org.au
SUMMARY:Mon	June 10	Queen’s Birthday Holiday
DESCRIPTION:
URL:https://apssport.org.au/event/monjune-10queens-birthday-holiday/
END:VEVENT
BEGIN:VEVENT
DTSTART;TZID=Australia/Melbourne:20190528T080000
DTEND;TZID=Australia/Melbourne:20190528T170000
DTSTAMP:20260424T034935
CREATED:20190528T080839Z
LAST-MODIFIED:20190528T080839Z
UID:87146-1559030400-1559062800@apssport.org.au
SUMMARY:Sat	June 15	Winter Team Sport Round
DESCRIPTION:
URL:https://apssport.org.au/event/satjune-15winter-team-sport-round/
END:VEVENT
BEGIN:VEVENT
DTSTART;TZID=Australia/Melbourne:20190528T080000
DTEND;TZID=Australia/Melbourne:20190528T170000
DTSTAMP:20260424T034935
CREATED:20190528T080906Z
LAST-MODIFIED:20190528T080906Z
UID:87148-1559030400-1559062800@apssport.org.au
SUMMARY:Sat	June 15	Athletics Victoria Individual Cross Country
DESCRIPTION:
URL:https://apssport.org.au/event/satjune-15athletics-victoria-individual-cross-country/
END:VEVENT
BEGIN:VEVENT
DTSTART;TZID=Australia/Melbourne:20190528T080000
DTEND;TZID=Australia/Melbourne:20190528T170000
DTSTAMP:20260424T034935
CREATED:20190528T080929Z
LAST-MODIFIED:20190528T080929Z
UID:87150-1559030400-1559062800@apssport.org.au
SUMMARY:Sat	June 22	Winter Team Sport Round
DESCRIPTION:
URL:https://apssport.org.au/event/satjune-22winter-team-sport-round/
END:VEVENT
END:VCALENDAR